BEGIN:VCALENDAR
VERSION:2.0
PRODID:icalendar-ruby
CALSCALE:GREGORIAN
X-WR-TIMEZONE:Europe/Helsinki
BEGIN:VTIMEZONE
TZID:Europe/Helsinki
BEGIN:DAYLIGHT
DTSTART:20260329T040000
TZOFFSETFROM:+0200
TZOFFSETTO:+0300
RRULE:FREQ=YEARLY;BYDAY=-1SU;BYMONTH=3
TZNAME:EEST
END:DAYLIGHT
BEGIN:STANDARD
DTSTART:20261025T030000
TZOFFSETFROM:+0300
TZOFFSETTO:+0200
RRULE:FREQ=YEARLY;BYDAY=-1SU;BYMONTH=10
TZNAME:EET
END:STANDARD
END:VTIMEZONE
BEGIN:VEVENT
DTSTAMP:20260424T171203
UID:keui.myclub.fi-10655333
DTSTART;TZID=Europe/Helsinki:20260527T170000
DTEND;TZID=Europe/Helsinki:20260527T180000
DESCRIPTION:https://keui.myclub.fi/flow/events/10655333
LOCATION:Keravan Uimahalli \, Tuusulantie 45\, 04200 KERAVA
SEQUENCE:0
SUMMARY:Keravan Uimarit ry: Kilpauintitestitilaisuus
URL;VALUE=URI:https://keui.myclub.fi/flow/events/10655333
END:VEVENT
END:VCALENDAR
